BEGIN:VCALENDAR
VERSION:2.0
PRODID:-//ChamberMaster//Event Calendar 2.0//EN
METHOD:PUBLISH
X-PUBLISHED-TTL:P3D
REFRESH-INTERVAL:P3D
CALSCALE:GREGORIAN
BEGIN:VEVENT
DTSTART:20160923T001500Z
DTEND:20160923T011500Z
X-MICROSOFT-CDO-ALLDAYEVENT:FALSE
SUMMARY:Ribbon Cutting - Shepherd of the Hills Lutheran Church
DESCRIPTION:Welcome Shepherd of the Hills Lutheran Church to the Chamber!
X-ALT-DESC;FMTTYPE=text/html:Welcome Shepherd of the Hills Lutheran&nbsp\;Church to the Chamber!
LOCATION:580 Trinity Drive Vacaville\, CA 95687
UID:e.1559.1901
SEQUENCE:3
DTSTAMP:20260420T211007Z
URL:https://business.vacavillechamber.com/events/details/ribbon-cutting-shepherd-of-the-hills-lutheran-church-1901
END:VEVENT

END:VCALENDAR
