BEGIN:VCALENDAR
VERSION:2.0
PRODID:-//ChamberMaster//Event Calendar 2.0//EN
METHOD:PUBLISH
X-PUBLISHED-TTL:P3D
REFRESH-INTERVAL:P3D
CALSCALE:GREGORIAN
BEGIN:VEVENT
DTSTART:20170413T001500Z
DTEND:20170413T011500Z
X-MICROSOFT-CDO-ALLDAYEVENT:FALSE
SUMMARY:Ribbon Cutting- Security Public Storage
DESCRIPTION:Join us in welcoming Security Public Storage to their new second location on East Monte Vista Ave\, Vacaville!
X-ALT-DESC;FMTTYPE=text/html:Join us in welcoming Security Public Storage to their new second location on East Monte Vista Ave\, Vacaville!<br />\n&nbsp\;
LOCATION:2400 E Monte Vista Ave Vacaville\, CA 95688
UID:e.1559.1972
SEQUENCE:3
DTSTAMP:20260420T121452Z
URL:https://business.vacavillechamber.com/events/details/ribbon-cutting-security-public-storage-1972
END:VEVENT

END:VCALENDAR
