BEGIN:VCALENDAR
VERSION:2.0
PRODID:-//ChamberMaster//Event Calendar 2.0//EN
METHOD:PUBLISH
X-PUBLISHED-TTL:P3D
REFRESH-INTERVAL:P3D
CALSCALE:GREGORIAN
BEGIN:VEVENT
DTSTART:20160629T003000Z
DTEND:20160629T013000Z
X-MICROSOFT-CDO-ALLDAYEVENT:FALSE
SUMMARY:Ribbon Cutting - Rockin' Jump
DESCRIPTION:Ribbon Cutting - Rockin' Jump
X-ALT-DESC;FMTTYPE=text/html:Ribbon Cutting - Rockin&#39\; Jump
LOCATION:828 Alamo Drive Vacaville\, CA 95688
UID:e.1559.1879
SEQUENCE:3
DTSTAMP:20260421T005259Z
URL:https://business.vacavillechamber.com/events/details/ribbon-cutting-rockin-jump-06-28-2016-1879
END:VEVENT

END:VCALENDAR
