BEGIN:VCALENDAR
VERSION:2.0
PRODID:-//ChamberMaster//Event Calendar 2.0//EN
METHOD:PUBLISH
X-PUBLISHED-TTL:P3D
REFRESH-INTERVAL:P3D
CALSCALE:GREGORIAN
BEGIN:VEVENT
DTSTART:20151022T164500Z
DTEND:20151022T173000Z
X-MICROSOFT-CDO-ALLDAYEVENT:FALSE
SUMMARY:Ribbon Cutting - Rita's of Vacaville
DESCRIPTION:Grand Opening Celebration for Rita's of Vacaville
X-ALT-DESC;FMTTYPE=text/html:Grand Opening Celebration for Rita&#39\;s of Vacaville
LOCATION:951 Alamo Drive
UID:e.1559.1792
SEQUENCE:3
DTSTAMP:20260421T105549Z
URL:https://business.vacavillechamber.com/events/details/ribbon-cutting-rita-s-of-vacaville-10-22-2015-1792
END:VEVENT

END:VCALENDAR
