BEGIN:VCALENDAR
VERSION:2.0
PRODID:-//ChamberMaster//Event Calendar 2.0//EN
METHOD:PUBLISH
X-PUBLISHED-TTL:P3D
REFRESH-INTERVAL:P3D
CALSCALE:GREGORIAN
BEGIN:VEVENT
DTSTART:20171201T013000Z
DTEND:20171201T023000Z
X-MICROSOFT-CDO-ALLDAYEVENT:FALSE
SUMMARY:Ribbon Cutting- Restoration Family Counseling Center
DESCRIPTION:Join us for a Ribbon Cutting celebration at Restoration Family Counseling Center! Help us welcome them to the Vacaville Chamber!
X-ALT-DESC;FMTTYPE=text/html:Join us for a Ribbon Cutting&nbsp\;celebration at Restoration Family Counseling Center! Help us welcome them to the Vacaville Chamber!&nbsp\;&nbsp\;&nbsp\;
LOCATION:1241 Alamo Drive\, Suite 3 Vacaville\, CA 95687
UID:e.1559.2028
SEQUENCE:3
DTSTAMP:20260420T030022Z
URL:https://business.vacavillechamber.com/events/details/ribbon-cutting-restoration-family-counseling-center-2028
END:VEVENT

END:VCALENDAR
