BEGIN:VCALENDAR
VERSION:2.0
PRODID:-//ChamberMaster//Event Calendar 2.0//EN
METHOD:PUBLISH
X-PUBLISHED-TTL:P3D
REFRESH-INTERVAL:P3D
CALSCALE:GREGORIAN
BEGIN:VEVENT
DTSTART:20180216T010000Z
DTEND:20180216T020000Z
X-MICROSOFT-CDO-ALLDAYEVENT:FALSE
SUMMARY:Ribbon Cutting- Re Grand Opening Opportunity House Thrift Store
DESCRIPTION:Join us for the Re Grand Opening of the Opportunity House Thrift Store!
X-ALT-DESC;FMTTYPE=text/html:Join us for the Re Grand Opening of the Opportunity House Thrift Store!&nbsp\;
LOCATION:107 Peabody Rd Vacaville\, CA 95687
UID:e.1559.2058
SEQUENCE:3
DTSTAMP:20260419T230213Z
URL:https://business.vacavillechamber.com/events/details/ribbon-cutting-re-grand-opening-opportunity-house-thrift-store-2058
END:VEVENT

END:VCALENDAR
