BEGIN:VCALENDAR
VERSION:2.0
PRODID:-//ChamberMaster//Event Calendar 2.0//EN
METHOD:PUBLISH
X-PUBLISHED-TTL:P3D
REFRESH-INTERVAL:P3D
CALSCALE:GREGORIAN
BEGIN:VEVENT
DTSTART:20180927T003000Z
DTEND:20180927T013000Z
X-MICROSOFT-CDO-ALLDAYEVENT:FALSE
SUMMARY:Ribbon Cutting- Rasta Mama's Kitchen
DESCRIPTION:Come out and celebrate with us for the new caterer in town\, Rasta Mama's Kitchen!\n\n\n\nRibbon will be cut at 6:00 pm!
X-ALT-DESC;FMTTYPE=text/html:<span style="color: rgb(33\, 33\, 33)\; font-family: Roboto\, Helvetica\, Arial\, sans-serif\; font-size: 14px\; background-color: rgb(245\, 245\, 245)\;">Come out and celebrate with us for the new caterer in town\, Rasta Mama&#39\;s Kitchen!</span><br style="color: rgb(33\, 33\, 33)\; font-family: Roboto\, Helvetica\, Arial\, sans-serif\; font-size: 14px\; background-color: rgb(245\, 245\, 245)\;" />\n<br style="color: rgb(33\, 33\, 33)\; font-family: Roboto\, Helvetica\, Arial\, sans-serif\; font-size: 14px\; background-color: rgb(245\, 245\, 245)\;" />\n<span style="color: rgb(33\, 33\, 33)\; font-family: Roboto\, Helvetica\, Arial\, sans-serif\; font-size: 14px\; background-color: rgb(245\, 245\, 245)\;">Ribbon will be cut at 6:00 pm!</span>
LOCATION:1000 Ulatis Dr Vacaville\, CA
UID:e.1559.2928
SEQUENCE:3
DTSTAMP:20260419T130544Z
URL:https://business.vacavillechamber.com/events/details/ribbon-cutting-rasta-mama-s-kitchen-2928
END:VEVENT

END:VCALENDAR
