BEGIN:VCALENDAR
VERSION:2.0
PRODID:-//ChamberMaster//Event Calendar 2.0//EN
METHOD:PUBLISH
X-PUBLISHED-TTL:P3D
REFRESH-INTERVAL:P3D
CALSCALE:GREGORIAN
BEGIN:VEVENT
DTSTART:20180714T170000Z
DTEND:20180714T180000Z
X-MICROSOFT-CDO-ALLDAYEVENT:FALSE
SUMMARY:Ribbon Cutting - Quick Lane Tire and Auto Center
DESCRIPTION:Grand Opening Celebration
X-ALT-DESC;FMTTYPE=text/html:Grand Opening Celebration
LOCATION:Quick Lane Tire and Auto Center 2001 Allison Drive (corner of E Monte Vista Ave) Vacaville CA 95688
UID:e.1559.2511
SEQUENCE:3
DTSTAMP:20260419T155609Z
URL:https://business.vacavillechamber.com/events/details/ribbon-cutting-quick-lane-tire-and-auto-center-2511
END:VEVENT

END:VCALENDAR
