BEGIN:VCALENDAR
VERSION:2.0
PRODID:-//ChamberMaster//Event Calendar 2.0//EN
METHOD:PUBLISH
X-PUBLISHED-TTL:P3D
REFRESH-INTERVAL:P3D
CALSCALE:GREGORIAN
BEGIN:VEVENT
DTSTART:20170330T230000Z
DTEND:20170331T020000Z
X-MICROSOFT-CDO-ALLDAYEVENT:FALSE
SUMMARY:Ribbon Cutting- Plata Realty Group
DESCRIPTION:Join us and welcome Plata Realty Group to their new location and to the Chamber!\n\n\n\nCelebration starts at 4:00 pm. Ribbon will be cut at 5:30 pm!\n\n\n\nDrinks\, appetizers and giveaways!!
X-ALT-DESC;FMTTYPE=text/html:Join us and welcome Plata Realty Group to their&nbsp\;new location and to the Chamber!<br />\n<br />\nCelebration starts at 4:00 pm. Ribbon will be cut at 5:30 pm!<br />\n<br />\nDrinks\, appetizers and giveaways!!
LOCATION:430 Cernon St\, Vacaville
UID:e.1559.1967
SEQUENCE:3
DTSTAMP:20260420T132752Z
URL:https://business.vacavillechamber.com/events/details/ribbon-cutting-plata-realty-group-1967
END:VEVENT

END:VCALENDAR
