BEGIN:VCALENDAR
VERSION:2.0
PRODID:-//ChamberMaster//Event Calendar 2.0//EN
METHOD:PUBLISH
X-PUBLISHED-TTL:P3D
REFRESH-INTERVAL:P3D
CALSCALE:GREGORIAN
BEGIN:VEVENT
DTSTART:20171219T230000Z
DTEND:20171220T000000Z
X-MICROSOFT-CDO-ALLDAYEVENT:FALSE
SUMMARY:Ribbon Cutting- Planet Fitness
DESCRIPTION:Join us for a ribbon cutting celebration for Planet Fitness! *ribbon to be cut at 3:30 pm
X-ALT-DESC;FMTTYPE=text/html:<span style="color: rgb(0\, 0\, 0)\; font-family: Arial\, sans-serif\; font-size: small\; white-space: pre-wrap\;">Join us for a ribbon cutting celebration for Planet Fitness! *ribbon to be cut at 3:30 pm</span>
LOCATION:Planet Fitness 154 Browns Valley Pkwy Vacaville\, CA 95688
UID:e.1559.2031
SEQUENCE:3
DTSTAMP:20260420T014145Z
URL:https://business.vacavillechamber.com/events/details/ribbon-cutting-planet-fitness-2031
END:VEVENT

END:VCALENDAR
