BEGIN:VCALENDAR
VERSION:2.0
PRODID:-//ChamberMaster//Event Calendar 2.0//EN
METHOD:PUBLISH
X-PUBLISHED-TTL:P3D
REFRESH-INTERVAL:P3D
CALSCALE:GREGORIAN
BEGIN:VEVENT
DTSTART:20170518T233000Z
DTEND:20170519T010000Z
X-MICROSOFT-CDO-ALLDAYEVENT:FALSE
SUMMARY:Ribbon Cutting- Pacifica Senior Living
DESCRIPTION:Join us for a Ribbon Cutting event for Pacifica Senior Living!
X-ALT-DESC;FMTTYPE=text/html:Join us for a Ribbon Cutting event for Pacifica Senior Living!&nbsp\;&nbsp\;&nbsp\;&nbsp\;
LOCATION:431 Nut Tree Rd\, Vacaville
UID:e.1559.1980
SEQUENCE:3
DTSTAMP:20260420T105846Z
URL:https://business.vacavillechamber.com/events/details/ribbon-cutting-pacifica-senior-living-1980
END:VEVENT

END:VCALENDAR
