BEGIN:VCALENDAR
VERSION:2.0
PRODID:-//ChamberMaster//Event Calendar 2.0//EN
METHOD:PUBLISH
X-PUBLISHED-TTL:P3D
REFRESH-INTERVAL:P3D
CALSCALE:GREGORIAN
BEGIN:VEVENT
DTSTART:20181006T003000Z
DTEND:20181006T013000Z
X-MICROSOFT-CDO-ALLDAYEVENT:FALSE
SUMMARY:Ribbon Cutting-Omni Dance Academy
DESCRIPTION:Join us for a Ribbon Cutting event at Omni Dance Academy!\n\n\n\n*Ribbon will be cut at 6:00 pm
X-ALT-DESC;FMTTYPE=text/html:Join us for a Ribbon Cutting event at Omni Dance Academy!<br />\n<br />\n*Ribbon will be cut at 6:00 pm
LOCATION:501 E Monte Vista Ave Vacaville\, CA 95688
UID:e.1559.2931
SEQUENCE:3
DTSTAMP:20260419T114531Z
URL:https://business.vacavillechamber.com/events/details/ribbon-cutting-omni-dance-academy-2931
END:VEVENT

END:VCALENDAR
