BEGIN:VCALENDAR
VERSION:2.0
PRODID:-//ChamberMaster//Event Calendar 2.0//EN
METHOD:PUBLISH
X-PUBLISHED-TTL:P3D
REFRESH-INTERVAL:P3D
CALSCALE:GREGORIAN
BEGIN:VEVENT
DTSTART:20160316T230000Z
DTEND:20160317T000000Z
X-MICROSOFT-CDO-ALLDAYEVENT:FALSE
SUMMARY:Ribbon Cutting - Massage Envy
DESCRIPTION:Come welcome the new owner of Massage Envy at the Ribbon Cutting event!
X-ALT-DESC;FMTTYPE=text/html:Come welcome the new owner of Massage Envy at the Ribbon Cutting event!&nbsp\;<br />\n&nbsp\;
LOCATION:196 Nut Tree Parkway Vacaville\, CA 95687
UID:e.1559.1828
SEQUENCE:3
DTSTAMP:20260421T043934Z
URL:https://business.vacavillechamber.com/events/details/ribbon-cutting-massage-envy-03-16-2016-1828
END:VEVENT

END:VCALENDAR
