BEGIN:VCALENDAR
VERSION:2.0
PRODID:-//ChamberMaster//Event Calendar 2.0//EN
METHOD:PUBLISH
X-PUBLISHED-TTL:P3D
REFRESH-INTERVAL:P3D
CALSCALE:GREGORIAN
BEGIN:VEVENT
DTSTART:20181107T180000Z
DTEND:20181107T190000Z
X-MICROSOFT-CDO-ALLDAYEVENT:FALSE
SUMMARY:Ribbon Cutting- Marks Growing Center
DESCRIPTION:Join us for a ribbon cutting event for Marks Growing Center!\n\n\n\nPastries and refreshments provided
X-ALT-DESC;FMTTYPE=text/html:Join us for a ribbon cutting event for Marks Growing Center!<br />\n<br />\nPastries and refreshments provided
LOCATION:200 Peach Tree Ave\, Vacaville
UID:e.1559.3064
SEQUENCE:3
DTSTAMP:20260421T082811Z
URL:https://business.vacavillechamber.com/events/details/ribbon-cutting-marks-growing-center-3064
END:VEVENT

END:VCALENDAR
