BEGIN:VCALENDAR
VERSION:2.0
PRODID:-//ChamberMaster//Event Calendar 2.0//EN
METHOD:PUBLISH
X-PUBLISHED-TTL:P3D
REFRESH-INTERVAL:P3D
CALSCALE:GREGORIAN
BEGIN:VEVENT
DTSTART:20150901T231500Z
DTEND:20150901T234500Z
X-MICROSOFT-CDO-ALLDAYEVENT:FALSE
SUMMARY:Ribbon Cutting - Kid's Care Dental
DESCRIPTION:Welcome Kid's Care Dental to Vacaville!
X-ALT-DESC;FMTTYPE=text/html:Welcome Kid&#39\;s Care Dental to Vacaville!
LOCATION:196 Nut Tree Parkway\, Suite A
UID:e.1559.1777
SEQUENCE:3
DTSTAMP:20260421T120323Z
URL:https://business.vacavillechamber.com/events/details/ribbon-cutting-kid-s-care-dental-09-01-2015-1777
END:VEVENT

END:VCALENDAR
