BEGIN:VCALENDAR
VERSION:2.0
PRODID:-//ChamberMaster//Event Calendar 2.0//EN
METHOD:PUBLISH
X-PUBLISHED-TTL:P3D
REFRESH-INTERVAL:P3D
CALSCALE:GREGORIAN
BEGIN:VEVENT
DTSTART:20170701T000000Z
DTEND:20170701T010000Z
X-MICROSOFT-CDO-ALLDAYEVENT:FALSE
SUMMARY:Ribbon Cutting- Kia of Vacaville
DESCRIPTION:Join us for a Ribbon Cutting celebration at Kia of Vacaville!
X-ALT-DESC;FMTTYPE=text/html:Join us for a Ribbon Cutting celebration at Kia of Vacaville!
LOCATION:651 Orange Drive\, Vacaville
UID:e.1559.1993
SEQUENCE:3
DTSTAMP:20260420T093822Z
URL:https://business.vacavillechamber.com/events/details/ribbon-cutting-kia-of-vacaville-1993
END:VEVENT

END:VCALENDAR
