BEGIN:VCALENDAR
VERSION:2.0
PRODID:-//ChamberMaster//Event Calendar 2.0//EN
METHOD:PUBLISH
X-PUBLISHED-TTL:P3D
REFRESH-INTERVAL:P3D
CALSCALE:GREGORIAN
BEGIN:VEVENT
DTSTART:20160226T011500Z
DTEND:20160226T021500Z
X-MICROSOFT-CDO-ALLDAYEVENT:FALSE
SUMMARY:Ribbon Cutting- Hide-A- Way
DESCRIPTION:Welcome Hide-A-Way Lounge & Grill!
X-ALT-DESC;FMTTYPE=text/html:Welcome Hide-A-Way Lounge &amp\; Grill!
LOCATION:1080 Orange Dr. Vacaville\, CA 95687
UID:e.1559.1813
SEQUENCE:3
DTSTAMP:20260421T054854Z
URL:https://business.vacavillechamber.com/events/details/ribbon-cutting-hide-a-way-02-25-2016-1813
END:VEVENT

END:VCALENDAR
