BEGIN:VCALENDAR
VERSION:2.0
PRODID:-//ChamberMaster//Event Calendar 2.0//EN
METHOD:PUBLISH
X-PUBLISHED-TTL:P3D
REFRESH-INTERVAL:P3D
CALSCALE:GREGORIAN
BEGIN:VEVENT
DTSTART:20180727T000000Z
DTEND:20180727T030000Z
X-MICROSOFT-CDO-ALLDAYEVENT:FALSE
SUMMARY:Ribbon Cutting/Grand Opening- On Q Financial
DESCRIPTION:Join us for a celebration of the newly expanded On Q Financial.\n\n\n\n*Ribbon will be cut at 6:00 pm
X-ALT-DESC;FMTTYPE=text/html:<span style="color: rgb(33\, 33\, 33)\; font-family: Roboto\, Helvetica\, Arial\, sans-serif\; font-size: 14px\; white-space: pre-wrap\;">Join us for a celebration of the newly expanded On Q Financial.<br />\n<br />\n*Ribbon will be cut at 6:00 pm</span>
LOCATION:21 Town Square Pl Vacaville\, CA 95688
UID:e.1559.2513
SEQUENCE:3
DTSTAMP:20260419T155159Z
URL:https://business.vacavillechamber.com/events/details/ribbon-cutting-grand-opening-on-q-financial-2513
END:VEVENT

END:VCALENDAR
