BEGIN:VCALENDAR
VERSION:2.0
PRODID:-//ChamberMaster//Event Calendar 2.0//EN
METHOD:PUBLISH
X-PUBLISHED-TTL:P3D
REFRESH-INTERVAL:P3D
CALSCALE:GREGORIAN
BEGIN:VEVENT
DTSTART:20150213T010000Z
DTEND:20150213T030000Z
X-MICROSOFT-CDO-ALLDAYEVENT:FALSE
SUMMARY:Ribbon Cutting & Grand Opening for Travis Credit Union Nut Tree Financial Solutions Center
DESCRIPTION:Join us on Thursday\, February 12\, 2015 to celebrate the grand opening and ribbon cutting for Travis Credit Union Nut Tree Financial Center.The Financial Solutions Center is not the traditional Credit Union Branch. Our new FSC will be an open concept experience.  This office will not have a traditional teller line.  In its place\, the FSC will have two self-serve teller kiosks. Staff will show members how to use the teller kiosks to complete transactions that would normally be completed at a traditional teller line. Join us to learn more about this wonderful credit union!
X-ALT-DESC;FMTTYPE=text/html:<span style="font-size:14px\;"><span style="font-family:arial\;">Join us on Thursday\, February 12\, 2015 to celebrate the grand opening and ribbon cutting for Travis Credit Union Nut Tree Financial Center.The Financial Solutions Center is not the traditional Credit Union Branch. Our new FSC will be an open concept experience.&nbsp\; This office will not have a traditional teller line.&nbsp\; In its place\, the FSC will have two self-serve teller kiosks. Staff will show members how to use the teller kiosks to complete transactions that would normally be completed at a traditional teller line. Join us to learn more about this wonderful credit union!</span></span>
LOCATION:1650 E. Monte Vista Avenue\, Suite EE 102
UID:e.1559.1589
SEQUENCE:3
DTSTAMP:20260421T213920Z
URL:https://business.vacavillechamber.com/events/details/ribbon-cutting-grand-opening-for-travis-credit-union-nut-tree-financial-solutions-center-02-12-2015-1589
END:VEVENT

END:VCALENDAR
