BEGIN:VCALENDAR
VERSION:2.0
PRODID:-//ChamberMaster//Event Calendar 2.0//EN
METHOD:PUBLISH
X-PUBLISHED-TTL:P3D
REFRESH-INTERVAL:P3D
CALSCALE:GREGORIAN
BEGIN:VEVENT
DTSTART:20161020T220000Z
DTEND:20161021T010000Z
X-MICROSOFT-CDO-ALLDAYEVENT:FALSE
SUMMARY:Ribbon Cutting Grand Opening Event-Datasafe
DESCRIPTION:Come celebrate with DataSafe on their 70 years of success! This is a grand opening ribbon cutting event with *free shredding\, prizes and other festivities at their new location in Vacaville!\n\n\n\n*Free shredding up to 5 boxes
X-ALT-DESC;FMTTYPE=text/html:Come celebrate with DataSafe&nbsp\;on their 70 years of success! This is a grand opening ribbon cutting event with *free shredding\, prizes and other festivities at their new location in Vacaville!<br />\n<br />\n*Free shredding up to 5 boxes&nbsp\;
LOCATION:400 Crocker Drive Vacaville\, CA 95688
UID:e.1559.1913
SEQUENCE:3
DTSTAMP:20260420T194858Z
URL:https://business.vacavillechamber.com/events/details/ribbon-cutting-grand-opening-event-datasafe-1913
END:VEVENT

END:VCALENDAR
