BEGIN:VCALENDAR
VERSION:2.0
PRODID:-//ChamberMaster//Event Calendar 2.0//EN
METHOD:PUBLISH
X-PUBLISHED-TTL:P3D
REFRESH-INTERVAL:P3D
CALSCALE:GREGORIAN
BEGIN:VEVENT
DTSTART:20141219T003000Z
DTEND:20141219T023000Z
X-MICROSOFT-CDO-ALLDAYEVENT:FALSE
SUMMARY:Ribbon Cutting/ Grand Opening
DESCRIPTION:Come Celebrate with the Vacaville Chamber of Commerce\, the Ribbon Cutting/Grand Opening of Manpower!\n\nManpower is a world leader in the workforce solutions\; creating and delivering services that enable its clients to win in the changing world of work.
X-ALT-DESC;FMTTYPE=text/html:Come Celebrate with the Vacaville Chamber of Commerce\, the Ribbon Cutting/Grand Opening of Manpower!<br />\n<strong>Manpower</strong> is a world leader in the workforce solutions\; creating and delivering services that enable its clients to win in the changing world of work.
LOCATION:795 Alamo Drive Vacaville\, Ca 95688
UID:e.1559.1583
SEQUENCE:3
DTSTAMP:20260422T001339Z
URL:https://business.vacavillechamber.com/events/details/ribbon-cutting-grand-opening-12-18-2014-1583
END:VEVENT

END:VCALENDAR
