BEGIN:VCALENDAR
VERSION:2.0
PRODID:-//ChamberMaster//Event Calendar 2.0//EN
METHOD:PUBLISH
X-PUBLISHED-TTL:P3D
REFRESH-INTERVAL:P3D
CALSCALE:GREGORIAN
BEGIN:VEVENT
DTSTART:20180703T173000Z
DTEND:20180703T183000Z
X-MICROSOFT-CDO-ALLDAYEVENT:FALSE
SUMMARY:Ribbon Cutting- Freedom Chiropractic
DESCRIPTION:Join us for a Ribbon Cutting/ Grand Opening event for Freedom Chiropractic! Enjoy refreshments\, treats and meet the Doctor!
X-ALT-DESC;FMTTYPE=text/html:Join us for a Ribbon Cutting/ Grand Opening event for Freedom Chiropractic! Enjoy refreshments\, treats and meet the Doctor!
LOCATION:348 Cernon Street Vacaville\, CA 95688
UID:e.1559.2494
SEQUENCE:3
DTSTAMP:20260419T154908Z
URL:https://business.vacavillechamber.com/events/details/ribbon-cutting-freedom-chiropractic-2494
END:VEVENT

END:VCALENDAR
