BEGIN:VCALENDAR
VERSION:2.0
PRODID:-//ChamberMaster//Event Calendar 2.0//EN
METHOD:PUBLISH
X-PUBLISHED-TTL:P3D
REFRESH-INTERVAL:P3D
CALSCALE:GREGORIAN
BEGIN:VEVENT
DTSTART:20171102T003000Z
DTEND:20171102T013000Z
X-MICROSOFT-CDO-ALLDAYEVENT:FALSE
SUMMARY:Ribbon Cutting- Fortress Restaurant & Lounge
DESCRIPTION:Come and join us in welcoming Fortress Restaurant & Lounge to Downtown Vacaville and the Chamber!
X-ALT-DESC;FMTTYPE=text/html:Come and join us in welcoming Fortress Restaurant &amp\; Lounge to Downtown Vacaville and the Chamber!&nbsp\;&nbsp\;&nbsp\;&nbsp\;
LOCATION:547 Main Street Vacaville\, CA 95688
UID:e.1559.2026
SEQUENCE:3
DTSTAMP:20260420T025739Z
URL:https://business.vacavillechamber.com/events/details/ribbon-cutting-fortress-restaurant-lounge-2026
END:VEVENT

END:VCALENDAR
