BEGIN:VCALENDAR
VERSION:2.0
PRODID:-//ChamberMaster//Event Calendar 2.0//EN
METHOD:PUBLISH
X-PUBLISHED-TTL:P3D
REFRESH-INTERVAL:P3D
CALSCALE:GREGORIAN
BEGIN:VEVENT
DTSTART:20180817T000000Z
DTEND:20180817T010000Z
X-MICROSOFT-CDO-ALLDAYEVENT:FALSE
SUMMARY:Ribbon Cutting - Fortress Financial Group
DESCRIPTION:Join us in Welcoming Fotress Financial Group to the Chamber of Commerce business community!
X-ALT-DESC;FMTTYPE=text/html:Join us in Welcoming Fotress Financial Group to the Chamber of Commerce business community!<br />\n&nbsp\;
LOCATION:750 Mason Street Vacaville\, Ca 95688 At the front door
UID:e.1559.2896
SEQUENCE:3
DTSTAMP:20260419T142920Z
URL:https://business.vacavillechamber.com/events/details/ribbon-cutting-fortress-financial-group-2896
END:VEVENT

END:VCALENDAR
