BEGIN:VCALENDAR
VERSION:2.0
PRODID:-//ChamberMaster//Event Calendar 2.0//EN
METHOD:PUBLISH
X-PUBLISHED-TTL:P3D
REFRESH-INTERVAL:P3D
CALSCALE:GREGORIAN
BEGIN:VEVENT
DTSTART:20150408T010000Z
DTEND:20150408T020000Z
X-MICROSOFT-CDO-ALLDAYEVENT:FALSE
SUMMARY:Ribbon Cutting for Who's Hiring Solano
DESCRIPTION:Join us for a Ribbon Cutting Ceremony for Who's Hiring Solano on Tuesday\, April 7th from 6:00 p.m. - 7:00 p.m.
X-ALT-DESC;FMTTYPE=text/html:<div style="color: gray\;">Join us for a Ribbon Cutting Ceremony for Who&#39\;s Hiring Solano on Tuesday\, April 7th from 6:00 p.m. - 7:00 p.m.</div>\n
LOCATION:Vacaville Chamber of Commerce\, 300 Main Street\, Vacaville\, CA 95688
UID:e.1559.1612
SEQUENCE:3
DTSTAMP:20260421T190127Z
URL:https://business.vacavillechamber.com/events/details/ribbon-cutting-for-who-s-hiring-solano-04-07-2015-1612
END:VEVENT

END:VCALENDAR
