BEGIN:VCALENDAR
VERSION:2.0
PRODID:-//ChamberMaster//Event Calendar 2.0//EN
METHOD:PUBLISH
X-PUBLISHED-TTL:P3D
REFRESH-INTERVAL:P3D
CALSCALE:GREGORIAN
BEGIN:VEVENT
DTSTART:20150226T010000Z
DTEND:20150226T020000Z
X-MICROSOFT-CDO-ALLDAYEVENT:FALSE
SUMMARY:Ribbon Cutting for Solano Mortgage
DESCRIPTION:Solano Mortgage has expanded and has a new second location on Main Street in Vacaville! Join us for their Grand Opening & Ribbon Cutting on February 25\, 2015 from 5-6pm.
X-ALT-DESC;FMTTYPE=text/html:Solano Mortgage has expanded and has a new second location on Main Street in Vacaville!&nbsp\;Join us for their Grand Opening &amp\; Ribbon Cutting on February 25\, 2015 from 5-6pm.&nbsp\;&nbsp\;
LOCATION:520 Main Street\, Vacaville
UID:e.1559.1594
SEQUENCE:3
DTSTAMP:20260421T214220Z
URL:https://business.vacavillechamber.com/events/details/ribbon-cutting-for-solano-mortgage-02-25-2015-1594
END:VEVENT

END:VCALENDAR
