BEGIN:VCALENDAR
VERSION:2.0
PRODID:-//ChamberMaster//Event Calendar 2.0//EN
METHOD:PUBLISH
X-PUBLISHED-TTL:P3D
REFRESH-INTERVAL:P3D
CALSCALE:GREGORIAN
BEGIN:VEVENT
DTSTART:20150220T190000Z
DTEND:20150220T200000Z
X-MICROSOFT-CDO-ALLDAYEVENT:FALSE
SUMMARY:Ribbon Cutting for Buckhorn Grill
DESCRIPTION:
X-ALT-DESC;FMTTYPE=text/html:
LOCATION:1650 E. Monte Vista Avenue Vacaville\, CA 95688
UID:e.1559.1596
SEQUENCE:3
DTSTAMP:20260421T213816Z
URL:https://business.vacavillechamber.com/events/details/ribbon-cutting-for-buckhorn-grill-02-20-2015-1596
END:VEVENT

END:VCALENDAR
