BEGIN:VCALENDAR
VERSION:2.0
PRODID:-//ChamberMaster//Event Calendar 2.0//EN
METHOD:PUBLISH
X-PUBLISHED-TTL:P3D
REFRESH-INTERVAL:P3D
CALSCALE:GREGORIAN
BEGIN:VEVENT
DTSTART:20160623T000000Z
DTEND:20160623T010000Z
X-MICROSOFT-CDO-ALLDAYEVENT:FALSE
SUMMARY:Ribbon Cutting - Fairway Independent Mortgage
DESCRIPTION:Welcome Fairway Independent Mortgage to it's new location!
X-ALT-DESC;FMTTYPE=text/html:Welcome Fairway Independent Mortgage to it&#39\;s new location!
LOCATION:2060 Peabody Road Vacaville\, CA 95687
UID:e.1559.1867
SEQUENCE:3
DTSTAMP:20260421T005756Z
URL:https://business.vacavillechamber.com/events/details/ribbon-cutting-fairway-independent-mortgage-06-22-2016-1867
END:VEVENT

END:VCALENDAR
