BEGIN:VCALENDAR
VERSION:2.0
PRODID:-//ChamberMaster//Event Calendar 2.0//EN
METHOD:PUBLISH
X-PUBLISHED-TTL:P3D
REFRESH-INTERVAL:P3D
CALSCALE:GREGORIAN
BEGIN:VEVENT
DTSTART:20160408T003000Z
DTEND:20160408T030000Z
X-MICROSOFT-CDO-ALLDAYEVENT:FALSE
SUMMARY:Ribbon Cutting-Erica Marie's Catering
DESCRIPTION:
X-ALT-DESC;FMTTYPE=text/html:
LOCATION:819 A Davis Street Vacaville\, CA 95687
UID:e.1559.1830
SEQUENCE:3
DTSTAMP:20260421T032839Z
URL:https://business.vacavillechamber.com/events/details/ribbon-cutting-erica-marie-s-catering-04-07-2016-1830
END:VEVENT

END:VCALENDAR
