BEGIN:VCALENDAR
VERSION:2.0
PRODID:-//ChamberMaster//Event Calendar 2.0//EN
METHOD:PUBLISH
X-PUBLISHED-TTL:P3D
REFRESH-INTERVAL:P3D
CALSCALE:GREGORIAN
BEGIN:VEVENT
DTSTART:20151028T001500Z
DTEND:20151028T010000Z
X-MICROSOFT-CDO-ALLDAYEVENT:FALSE
SUMMARY:Ribbon Cutting - Dream Dinners Vacaville
DESCRIPTION:Celebrate the One Year Anniversary of Dream Dinners Vacaville!
X-ALT-DESC;FMTTYPE=text/html:Celebrate the One Year Anniversary of Dream Dinners Vacaville!
LOCATION:211 Peabody Road\, Suite A
UID:e.1559.1784
SEQUENCE:3
DTSTAMP:20260421T105438Z
URL:https://business.vacavillechamber.com/events/details/ribbon-cutting-dream-dinners-vacaville-10-27-2015-1784
END:VEVENT

END:VCALENDAR
