BEGIN:VCALENDAR
VERSION:2.0
PRODID:-//ChamberMaster//Event Calendar 2.0//EN
METHOD:PUBLISH
X-PUBLISHED-TTL:P3D
REFRESH-INTERVAL:P3D
CALSCALE:GREGORIAN
BEGIN:VEVENT
DTSTART:20160720T003000Z
DTEND:20160720T013000Z
X-MICROSOFT-CDO-ALLDAYEVENT:FALSE
SUMMARY:Ribbon Cutting - Crown Realty Property Management
DESCRIPTION:
X-ALT-DESC;FMTTYPE=text/html:
LOCATION:Crown Property Management 102 Browns Valley Pkwy. Vacaville\, CA 95688
UID:e.1559.1882
SEQUENCE:3
DTSTAMP:20260420T234511Z
URL:https://business.vacavillechamber.com/events/details/ribbon-cutting-crown-realty-property-management-07-19-2016-1882
END:VEVENT

END:VCALENDAR
