BEGIN:VCALENDAR
VERSION:2.0
PRODID:-//ChamberMaster//Event Calendar 2.0//EN
METHOD:PUBLISH
X-PUBLISHED-TTL:P3D
REFRESH-INTERVAL:P3D
CALSCALE:GREGORIAN
BEGIN:VEVENT
DTSTART:20160630T000000Z
DTEND:20160630T010000Z
X-MICROSOFT-CDO-ALLDAYEVENT:FALSE
SUMMARY:Ribbon Cutting - Creative on Main
DESCRIPTION:Join us in welcoming a brand new business in our downtown Vacaville.\n\nGrand Opening/Ribbon Cutting for Creative on Main.\n\n"It's like a Kinkos for arts and crafts!"
X-ALT-DESC;FMTTYPE=text/html:Join us in welcoming a brand new business in our downtown Vacaville.<br />\nGrand Opening/Ribbon Cutting for Creative on Main.<br />\n<em><strong>&quot\;It&#39\;s like a Kinkos for arts and crafts!&quot\;</strong></em>
LOCATION:313 Main Street Vacaville\, CA 95688 (across the street from the Chamber)
UID:e.1559.1881
SEQUENCE:3
DTSTAMP:20260421T005144Z
URL:https://business.vacavillechamber.com/events/details/ribbon-cutting-creative-on-main-06-29-2016-1881
END:VEVENT

END:VCALENDAR
