BEGIN:VCALENDAR
VERSION:2.0
PRODID:-//ChamberMaster//Event Calendar 2.0//EN
METHOD:PUBLISH
X-PUBLISHED-TTL:P3D
REFRESH-INTERVAL:P3D
CALSCALE:GREGORIAN
BEGIN:VEVENT
DTSTART:20180620T183000Z
DTEND:20180620T203000Z
X-MICROSOFT-CDO-ALLDAYEVENT:FALSE
SUMMARY:Ribbon Cutting- Caliber Collision
DESCRIPTION:Join us for the Open House and Ribbon Cutting event for Caliber Collision!\n\n\n\nRefreshments and raffle prizes provided!
X-ALT-DESC;FMTTYPE=text/html:Join us for the Open House and Ribbon Cutting event for Caliber Collision!<br />\n<br />\nRefreshments and raffle prizes provided!<br />\n<br />\n&nbsp\;
LOCATION:90 Orange Tree Circle\, Vacaville
UID:e.1559.2493
SEQUENCE:3
DTSTAMP:20260419T171414Z
URL:https://business.vacavillechamber.com/events/details/ribbon-cutting-caliber-collision-2493
END:VEVENT

END:VCALENDAR
