BEGIN:VCALENDAR
VERSION:2.0
PRODID:-//ChamberMaster//Event Calendar 2.0//EN
METHOD:PUBLISH
X-PUBLISHED-TTL:P3D
REFRESH-INTERVAL:P3D
CALSCALE:GREGORIAN
BEGIN:VEVENT
DTSTART:20150618T230000Z
DTEND:20150619T013000Z
X-MICROSOFT-CDO-ALLDAYEVENT:FALSE
SUMMARY:Ribbon Cutting: Brookdale Senior Living Vacaville
DESCRIPTION:Come meet our Brookdale family. Enjoy Hors d'oeuvres\, live music & raffle prizes at both locations.\n\n\n\nEnter to win the grand prize drawing of $500 towards a vacation of your choice. (Must visit both locations to qualify.)
X-ALT-DESC;FMTTYPE=text/html:Come meet our Brookdale family. Enjoy&nbsp\;Hors d&rsquo\;oeuvres\, live music &amp\; raffle prizes at both locations.<br />\n<br />\nEnter to win the grand prize drawing of $500 towards a vacation of your choice. (Must visit both locations to qualify.)
LOCATION:Brookdale Vacaville Leisure Town (Formally Emeritus at Leisure Town) 799 Yellowstone Drive\, Vacaville 707-447-7496 Ribbon Cut at 5:30pm Brookdale Vacaville (Formally Emeritus at Vacaville) 1111 Ulatis Drive\, Vacaville 707-447-7100 Ribbon Cut at 4:30pm
UID:e.1559.1754
SEQUENCE:3
DTSTAMP:20260421T161046Z
URL:https://business.vacavillechamber.com/events/details/ribbon-cutting-brookdale-senior-living-vacaville-06-18-2015-1754
END:VEVENT

END:VCALENDAR
