BEGIN:VCALENDAR
VERSION:2.0
PRODID:-//ChamberMaster//Event Calendar 2.0//EN
METHOD:PUBLISH
X-PUBLISHED-TTL:P3D
REFRESH-INTERVAL:P3D
CALSCALE:GREGORIAN
BEGIN:VEVENT
DTSTART:20180605T203000Z
DTEND:20180605T223000Z
X-MICROSOFT-CDO-ALLDAYEVENT:FALSE
SUMMARY:Ribbon Cutting- Brandman University
DESCRIPTION:Join us in celebrating Brandman University's new location!
X-ALT-DESC;FMTTYPE=text/html:Join us in celebrating Brandman University&#39\;s new location!&nbsp\;
LOCATION:2450 Martin Road\, First Floor Fairfield\, CA 94534
UID:e.1559.2092
SEQUENCE:3
DTSTAMP:20260419T171501Z
URL:https://business.vacavillechamber.com/events/details/ribbon-cutting-brandman-university-2092
END:VEVENT

END:VCALENDAR
