BEGIN:VCALENDAR
VERSION:2.0
PRODID:-//ChamberMaster//Event Calendar 2.0//EN
METHOD:PUBLISH
X-PUBLISHED-TTL:P3D
REFRESH-INTERVAL:P3D
CALSCALE:GREGORIAN
BEGIN:VEVENT
DTSTART:20171207T000000Z
DTEND:20171207T010000Z
X-MICROSOFT-CDO-ALLDAYEVENT:FALSE
SUMMARY:Ribbon Cutting- Boys and Girls Club Jepson Location
DESCRIPTION:Join us to celebrate The Vacaville Boys and Girls Club new club location at Jepson Middle School! Ribbon to be cut at 4:20 pm! Refreshments and treats provided!
X-ALT-DESC;FMTTYPE=text/html:<span style="color: rgb(0\, 0\, 0)\; font-family: Arial\, sans-serif\; font-size: small\; white-space: pre-wrap\;">Join us to celebrate The Vacaville Boys and Girls Club new club location at Jepson Middle School! Ribbon to be cut at 4:20 pm! Refreshments and treats provided! </span>
LOCATION:Willis Jepson Middle School 5810 Elder St Vacaville\, CA 95688
UID:e.1559.2030
SEQUENCE:3
DTSTAMP:20260420T014144Z
URL:https://business.vacavillechamber.com/events/details/ribbon-cutting-boys-and-girls-club-jepson-location-2030
END:VEVENT

END:VCALENDAR
