BEGIN:VCALENDAR
VERSION:2.0
PRODID:-//ChamberMaster//Event Calendar 2.0//EN
METHOD:PUBLISH
X-PUBLISHED-TTL:P3D
REFRESH-INTERVAL:P3D
CALSCALE:GREGORIAN
BEGIN:VEVENT
DTSTART:20170913T003000Z
DTEND:20170913T013000Z
X-MICROSOFT-CDO-ALLDAYEVENT:FALSE
SUMMARY:Ribbon Cutting - Better Bookkeepers
DESCRIPTION:Join us in celebrating Better Bookkeepers new location!!
X-ALT-DESC;FMTTYPE=text/html:Join us in celebrating Better Bookkeepers&nbsp\;new location!!
LOCATION:1019 Alamo Drive Vacaville\, CA 95687
UID:e.1559.1990
SEQUENCE:3
DTSTAMP:20260420T053507Z
URL:https://business.vacavillechamber.com/events/details/ribbon-cutting-better-bookkeepers-1990
END:VEVENT

END:VCALENDAR
