BEGIN:VCALENDAR
VERSION:2.0
PRODID:-//ChamberMaster//Event Calendar 2.0//EN
METHOD:PUBLISH
X-PUBLISHED-TTL:P3D
REFRESH-INTERVAL:P3D
CALSCALE:GREGORIAN
BEGIN:VEVENT
DTSTART:20160916T001500Z
DTEND:20160916T011500Z
X-MICROSOFT-CDO-ALLDAYEVENT:FALSE
SUMMARY:Ribbon Cutting - Better Bookkeepers
DESCRIPTION:Ribbon Cutting - Better Bookkeepers
X-ALT-DESC;FMTTYPE=text/html:Ribbon Cutting - Better Bookkeepers<br />\n&nbsp\;
LOCATION:330 Merchant Street
UID:e.1559.1904
SEQUENCE:3
DTSTAMP:20260420T210552Z
URL:https://business.vacavillechamber.com/events/details/ribbon-cutting-better-bookkeepers-1904
END:VEVENT

END:VCALENDAR
