BEGIN:VCALENDAR
VERSION:2.0
PRODID:-//ChamberMaster//Event Calendar 2.0//EN
METHOD:PUBLISH
X-PUBLISHED-TTL:P3D
REFRESH-INTERVAL:P3D
CALSCALE:GREGORIAN
BEGIN:VEVENT
DTSTART:20170119T013000Z
DTEND:20170119T023000Z
X-MICROSOFT-CDO-ALLDAYEVENT:FALSE
SUMMARY:Ribbon Cutting-Best Western Plus
DESCRIPTION:Come out and welcome Dixon Best Western Plus to the Vacaville Chamber.
X-ALT-DESC;FMTTYPE=text/html:Come out and welcome Dixon Best Western Plus to the Vacaville Chamber.&nbsp\;&nbsp\;&nbsp\;&nbsp\;&nbsp\;
LOCATION:1345 Commercial Way Dixon\, CA 95620
UID:e.1559.1937
SEQUENCE:3
DTSTAMP:20260420T160928Z
URL:https://business.vacavillechamber.com/events/details/ribbon-cutting-best-western-plus-1937
END:VEVENT

END:VCALENDAR
