BEGIN:VCALENDAR
VERSION:2.0
PRODID:-//ChamberMaster//Event Calendar 2.0//EN
METHOD:PUBLISH
X-PUBLISHED-TTL:P3D
REFRESH-INTERVAL:P3D
CALSCALE:GREGORIAN
BEGIN:VEVENT
DTSTART:20180503T200000Z
DTEND:20180503T210000Z
X-MICROSOFT-CDO-ALLDAYEVENT:FALSE
SUMMARY:Ribbon Cutting -Beat The Room
DESCRIPTION:Join us for the Ribbon Cutting celebration at Beat The Room!
X-ALT-DESC;FMTTYPE=text/html:Join us for the Ribbon Cutting celebration at Beat The Room!&nbsp\;&nbsp\;&nbsp\;&nbsp\;
LOCATION:814 Alamo Drive Vacaville\, CA 95688
UID:e.1559.2085
SEQUENCE:3
DTSTAMP:20260419T185441Z
URL:https://business.vacavillechamber.com/events/details/ribbon-cutting-beat-the-room-2085
END:VEVENT

END:VCALENDAR
