BEGIN:VCALENDAR
VERSION:2.0
PRODID:-//ChamberMaster//Event Calendar 2.0//EN
METHOD:PUBLISH
X-PUBLISHED-TTL:P3D
REFRESH-INTERVAL:P3D
CALSCALE:GREGORIAN
BEGIN:VEVENT
DTSTART:20170622T210000Z
DTEND:20170622T220000Z
X-MICROSOFT-CDO-ALLDAYEVENT:FALSE
SUMMARY:Ribbon Cutting- Be Fit Financial
DESCRIPTION:Join us as we celebrate and welcome Be Fit Financial to their new Downtown location in Vacaville! \n\n\n\nAppetizers and Refreshments!\n\n\n\n**Ribbon Cutting at 2:30**
X-ALT-DESC;FMTTYPE=text/html:Join us as we celebrate and welcome Be Fit Financial to their new Downtown location in Vacaville!&nbsp\;<br />\n<br />\nAppetizers and Refreshments!<br />\n<br />\n**Ribbon Cutting at 2:30**
LOCATION:640 E Main Street\, Vacaville
UID:e.1559.1982
SEQUENCE:3
DTSTAMP:20260420T093545Z
URL:https://business.vacavillechamber.com/events/details/ribbon-cutting-be-fit-financial-1982
END:VEVENT

END:VCALENDAR
