BEGIN:VCALENDAR
VERSION:2.0
PRODID:-//ChamberMaster//Event Calendar 2.0//EN
METHOD:PUBLISH
X-PUBLISHED-TTL:P3D
REFRESH-INTERVAL:P3D
CALSCALE:GREGORIAN
BEGIN:VEVENT
DTSTART:20161020T003000Z
DTEND:20161020T013000Z
X-MICROSOFT-CDO-ALLDAYEVENT:FALSE
SUMMARY:Ribbon Cutting - Bay Stamp & Engraving
DESCRIPTION:Join us for a Ribbon Cutting at Bay Stamp & Engraving!
X-ALT-DESC;FMTTYPE=text/html:Join us for a Ribbon Cutting at Bay Stamp &amp\; Engraving!
LOCATION:1313 Callen Street Vacaville\, CA 95688
UID:e.1559.1910
SEQUENCE:3
DTSTAMP:20260420T194833Z
URL:https://business.vacavillechamber.com/events/details/ribbon-cutting-bay-stamp-engraving-1910
END:VEVENT

END:VCALENDAR
