BEGIN:VCALENDAR
VERSION:2.0
PRODID:-//ChamberMaster//Event Calendar 2.0//EN
METHOD:PUBLISH
X-PUBLISHED-TTL:P3D
REFRESH-INTERVAL:P3D
CALSCALE:GREGORIAN
BEGIN:VEVENT
DTSTART:20180719T000000Z
DTEND:20180719T010000Z
X-MICROSOFT-CDO-ALLDAYEVENT:FALSE
SUMMARY:Ribbon Cutting- Ashley Ball Photography
DESCRIPTION:Join us for a ribbon cutting event for Ashley Ball Photography! Refreshments and treats provided.\n\n\n\n*Ribbon Cutting at 5:30 pm
X-ALT-DESC;FMTTYPE=text/html:Join us for a ribbon cutting event for Ashley Ball Photography! Refreshments and treats provided.<br />\n<br />\n*Ribbon Cutting at 5:30 pm
LOCATION:479 Mason Street\, Suite 323 Vacaville\, CA 95688
UID:e.1559.2491
SEQUENCE:3
DTSTAMP:20260419T155543Z
URL:https://business.vacavillechamber.com/events/details/ribbon-cutting-ashley-ball-photography-2491
END:VEVENT

END:VCALENDAR
