BEGIN:VCALENDAR
VERSION:2.0
PRODID:-//ChamberMaster//Event Calendar 2.0//EN
METHOD:PUBLISH
X-PUBLISHED-TTL:P3D
REFRESH-INTERVAL:P3D
CALSCALE:GREGORIAN
BEGIN:VEVENT
DTSTART:20170615T220000Z
DTEND:20170616T020000Z
X-MICROSOFT-CDO-ALLDAYEVENT:FALSE
SUMMARY:Ribbon Cutting and Grand Opening- KW Vaca Valley
DESCRIPTION:Join us in welcoming KW Vaca Valley to Downtown Vacaville and the Vacaville Chamber of Commerce! There will be vendors\, raffles\, food\, music\, and more! We can't wait to enjoy the night with you all!\n\n\n\n**Ribbon will be cut at 5:00 pm**
X-ALT-DESC;FMTTYPE=text/html:Join us in welcoming KW Vaca&nbsp\;Valley to Downtown Vacaville and the Vacaville Chamber of Commerce! There will be vendors\, raffles\, food\, music\, and more! We can&#39\;t wait to enjoy the night with you all!<br />\n<br />\n**Ribbon will be cut at 5:00 pm**
LOCATION:312 Cernon St. Suite D Vacaville\, CA 95688
UID:e.1559.1989
SEQUENCE:3
DTSTAMP:20260420T093903Z
URL:https://business.vacavillechamber.com/events/details/ribbon-cutting-and-grand-opening-kw-vaca-valley-1989
END:VEVENT

END:VCALENDAR
