BEGIN:VCALENDAR
VERSION:2.0
PRODID:-//ChamberMaster//Event Calendar 2.0//EN
METHOD:PUBLISH
X-PUBLISHED-TTL:P3D
REFRESH-INTERVAL:P3D
CALSCALE:GREGORIAN
BEGIN:VEVENT
DTSTART:20171130T013000Z
DTEND:20171130T023000Z
X-MICROSOFT-CDO-ALLDAYEVENT:FALSE
SUMMARY:Ribbon Cutting- Always Best Care Senior Services
DESCRIPTION:Join us in the celebration of Always Best Care Senior Services Ribbon Cutting event!   Appetizers and drinks served!
X-ALT-DESC;FMTTYPE=text/html:Join us in the celebration of Always Best Care Senior Services Ribbon Cutting event! &nbsp\; Appetizers and drinks served!
LOCATION:479 Mason Street\, Suite 101 Vacaville\, CA 95688
UID:e.1559.2020
SEQUENCE:3
DTSTAMP:20260420T025706Z
URL:https://business.vacavillechamber.com/events/details/ribbon-cutting-always-best-care-senior-services-2020
END:VEVENT

END:VCALENDAR
