BEGIN:VCALENDAR
VERSION:2.0
PRODID:-//ChamberMaster//Event Calendar 2.0//EN
METHOD:PUBLISH
X-PUBLISHED-TTL:P3D
REFRESH-INTERVAL:P3D
CALSCALE:GREGORIAN
BEGIN:VEVENT
DTSTART:20160817T191500Z
DTEND:20160817T211500Z
X-MICROSOFT-CDO-ALLDAYEVENT:FALSE
SUMMARY:Ribbon Cutting - Adriansito's Mexican Restaurant
DESCRIPTION:Let's welcome Adriansito's to Vacaville! \n\n\n\nThey are offering a FREE MEAL OF YOUR CHOICE right off the menu! Serving 100% fresh Mexican cuisine.\n\n *Soft drinks are available for regular charge.  Water is complimentary\n\n\n\nCheck out their menu here:\n\nhttp://www.adriansitos.com/-/CustomContent/index/5782045
X-ALT-DESC;FMTTYPE=text/html:<strong><span style="font-size:20px\;"><span style="color:#000000\;">Let&#39\;s welcome Adriansito&#39\;s&nbsp\;to Vacaville! </span></span></strong><br />\n<br />\n<span style="font-size:16px\;"><em><strong>They are offering a FREE MEAL OF YOUR CHOICE right off the menu! Serving 100% fresh Mexican cuisine.</strong></em></span><br />\n&nbsp\;*Soft drinks are available for regular charge. &nbsp\;Water is complimentary<br />\n<br />\nCheck out their menu here:<br />\n<a href="http://www.adriansitos.com/-/CustomContent/index/5782045">http://www.adriansitos.com/-/CustomContent/index/5782045</a>
LOCATION:1347 E. Monte Vista Ave. Vacaville\, CA 95687
UID:e.1559.1899
SEQUENCE:3
DTSTAMP:20260420T222537Z
URL:https://business.vacavillechamber.com/events/details/ribbon-cutting-adriansito-s-mexican-restaurant-08-17-2016-1899
END:VEVENT

END:VCALENDAR
