BEGIN:VCALENDAR
VERSION:2.0
PRODID:-//ChamberMaster//Event Calendar 2.0//EN
METHOD:PUBLISH
X-PUBLISHED-TTL:P3D
REFRESH-INTERVAL:P3D
CALSCALE:GREGORIAN
BEGIN:VEVENT
DTSTART:20160921T230000Z
DTEND:20160922T003000Z
X-MICROSOFT-CDO-ALLDAYEVENT:FALSE
SUMMARY:Retail Opportunity Analysis
DESCRIPTION:Join us for a program demonstrating how proven principles of retail development can be combined with the best practices of the New Urbanism\, Smart Growth and architectural design to create successful and competitive mixed-use urban commercial centers.\n\n\n\nRead more here Retail Opportunity Analysis
X-ALT-DESC;FMTTYPE=text/html:Join us for a program demonstrating how proven principles of retail development&nbsp\;can be combined with the best practices of the New Urbanism\,&nbsp\;Smart Growth and architectural design to create successful and&nbsp\;competitive mixed-use urban commercial centers.<br />\n<br />\nRead more here&nbsp\;<a href="https://chambermaster.blob.core.windows.net/userfiles/UserFiles/chambers/1559/File/retailseminar9-21-16.pdf">Retail Opportunity Analysis </a>
LOCATION:Hampton Inn & Suites 800 Mason Street
UID:e.1559.1892
SEQUENCE:3
DTSTAMP:20260420T210135Z
URL:https://business.vacavillechamber.com/events/details/retail-opportunity-analysis-09-21-2016-1892
END:VEVENT

END:VCALENDAR
