BEGIN:VCALENDAR
VERSION:2.0
PRODID:-//ChamberMaster//Event Calendar 2.0//EN
METHOD:PUBLISH
X-PUBLISHED-TTL:P3D
REFRESH-INTERVAL:P3D
CALSCALE:GREGORIAN
BEGIN:VEVENT
DTSTART:20150601T210000Z
DTEND:20150601T220000Z
X-MICROSOFT-CDO-ALLDAYEVENT:FALSE
SUMMARY:Proposed Business Regulation and Community Meeting: Vacaville Smoking Ordinance
DESCRIPTION:A community meeting to ask questions and voice opinions about a new smoking ordinance in Vacaville. \n\n\n\nEmail maricel.townsell@cityofvacaville for a draft of the smoking ordinance.
X-ALT-DESC;FMTTYPE=text/html:A community meeting to ask questions and voice opinions about a new smoking ordinance in Vacaville.&nbsp\;<br />\n<br />\nEmail maricel.townsell@cityofvacaville&nbsp\;for a draft of the smoking ordinance.&nbsp\;
LOCATION:Rooms A/B at Vacaville City Hall
UID:e.1559.1748
SEQUENCE:3
DTSTAMP:20260421T161112Z
URL:https://business.vacavillechamber.com/events/details/proposed-business-regulation-and-community-meeting-vacaville-smoking-ordinance-06-01-2015-1748
END:VEVENT

END:VCALENDAR
