BEGIN:VCALENDAR
VERSION:2.0
PRODID:-//ChamberMaster//Event Calendar 2.0//EN
METHOD:PUBLISH
X-PUBLISHED-TTL:P3D
REFRESH-INTERVAL:P3D
CALSCALE:GREGORIAN
BEGIN:VEVENT
DTSTART:20150609T163000Z
DTEND:20150609T180000Z
X-MICROSOFT-CDO-ALLDAYEVENT:FALSE
SUMMARY:Proposed Business Regulation and Community Meeting: Vacaville Massage Therapy Ordinance
DESCRIPTION:A community meeting to answer any questions members have about considering the adoption of a new massage therapy ordinance in Vacaville.\n\n\n\nEmail maricel.townsell@cityofvacaville to obtain a draft of the massage therapy ordinance.
X-ALT-DESC;FMTTYPE=text/html:A community meeting to answer any questions members have about considering the adoption of a new massage therapy ordinance in Vacaville.<br />\n<br />\nEmail maricel.townsell@cityofvacaville to obtain a draft of the massage therapy ordinance.
LOCATION:Rooms A/B of the Vacaville City Hall
UID:e.1559.1751
SEQUENCE:3
DTSTAMP:20260421T161231Z
URL:https://business.vacavillechamber.com/events/details/proposed-business-regulation-and-community-meeting-vacaville-massage-therapy-ordinance-06-09-2015-1751
END:VEVENT

END:VCALENDAR
