BEGIN:VCALENDAR
VERSION:2.0
PRODID:-//ChamberMaster//Event Calendar 2.0//EN
METHOD:PUBLISH
X-PUBLISHED-TTL:P3D
REFRESH-INTERVAL:P3D
CALSCALE:GREGORIAN
BEGIN:VEVENT
DTSTART;VALUE=DATE:20171017
DTEND;VALUE=DATE:20171018
TRANSP:TRANSPARENT
X-MICROSOFT-CDO-ALLDAYEVENT:TRUE
SUMMARY:Project Inspire - Exploratory Career Fair
DESCRIPTION:Businesses demonstrate various career choices for 8th grade students to identify preferred education pathways. Contact the Vacaville Chamber if your business is interested in participating!
X-ALT-DESC;FMTTYPE=text/html:Businesses demonstrate various career choices for 8th grade students to identify preferred education pathways. Contact the Vacaville Chamber if your business is interested in participating!
LOCATION:Ulatis Community Center 1111 Ulatis Drive
UID:e.1559.1975
SEQUENCE:3
DTSTAMP:20260420T041614Z
URL:https://business.vacavillechamber.com/events/details/project-inspire-exploratory-career-fair-1975
END:VEVENT

END:VCALENDAR
